BEGIN:VCALENDAR
VERSION:2.0
PRODID:-//whitecollarcomedytour - ECPv6.15.20//NONSGML v1.0//EN
CALSCALE:GREGORIAN
METHOD:PUBLISH
X-ORIGINAL-URL:https://thewhitecollarcomedytour.com
X-WR-CALDESC:Events for whitecollarcomedytour
REFRESH-INTERVAL;VALUE=DURATION:PT1H
X-Robots-Tag:noindex
X-PUBLISHED-TTL:PT1H
BEGIN:VTIMEZONE
TZID:UTC
BEGIN:STANDARD
TZOFFSETFROM:+0000
TZOFFSETTO:+0000
TZNAME:UTC
DTSTART:20230101T000000
END:STANDARD
END:VTIMEZONE
BEGIN:VEVENT
DTSTART;TZID=UTC:20240613T193000
DTEND;TZID=UTC:20240613T220000
DTSTAMP:20260420T042511
CREATED:20240605T123041Z
LAST-MODIFIED:20240605T123041Z
UID:351-1718307000-1718316000@thewhitecollarcomedytour.com
SUMMARY:Venturino's Comedy Club
DESCRIPTION:The White Collar Comedy Tour is coming to Bonita Springs\, FL and tickets are selling fast! A teacher\, a doctor\, and a lawyer walk into the Arts Bonita on June 13th\, 2024! Join these three funny professionals for a hysterical night of stand up comedy. Mike Rivera was named the Funniest Teacher in America. He’s also a touring member of the Bored Teachers Tour. Vien “ComicDoc” Phommachanh is the #1 Ranked Laotian Ear\, Nose\, & Throat Doctor/Comedian in Florida. He has a DryBar Comedy Special being released in 2024. Mark Christopher is an old-school comic with modern sensibility and a lawyer. He has performed all over the country in the biggest clubs alongside some of the top comics in the country. The three of them are teaming up\, and we want you to bring your teams and staff\, for a wonderful night of comedy as part of Venturino’s Comedy Series! The show is hosted by Larry Venturino.
URL:https://thewhitecollarcomedytour.com/event/venturinos-comedy-club/
LOCATION:Venturino’s Comedy Club\, 10150 Bonita Beach Road\, Bonita Springs\, FL\, 34135\, United States
ATTACH;FMTTYPE=image/jpeg:https://thewhitecollarcomedytour.com/wp-content/uploads/2024/06/444458002_122149506932162862_5024559552685199937_n.jpg
END:VEVENT
END:VCALENDAR